BEGIN:VCALENDAR
VERSION:2.0
PRODID:-//The American Society of Aviation Artists - ECPv4.9.10//NONSGML v1.0//EN
CALSCALE:GREGORIAN
METHOD:PUBLISH
X-WR-CALNAME:The American Society of Aviation Artists
X-ORIGINAL-URL:https://asaa-avart.com
X-WR-CALDESC:Events for The American Society of Aviation Artists
BEGIN:VTIMEZONE
TZID:America/New_York
BEGIN:DAYLIGHT
TZOFFSETFROM:-0500
TZOFFSETTO:-0400
TZNAME:EDT
DTSTART:20170312T070000
END:DAYLIGHT
BEGIN:STANDARD
TZOFFSETFROM:-0400
TZOFFSETTO:-0500
TZNAME:EST
DTSTART:20171105T060000
END:STANDARD
END:VTIMEZONE
BEGIN:VEVENT
DTSTART;TZID=America/New_York:20170522T130000
DTEND;TZID=America/New_York:20170522T163000
DTSTAMP:20260421T094800
CREATED:20170214T170758Z
LAST-MODIFIED:20170214T170758Z
UID:3799-1495458000-1495470600@asaa-avart.com
SUMMARY:Registration
DESCRIPTION:
URL:https://asaa-avart.com/event/registration-2
LOCATION:Hotel: Crowne Plaza Hampton Marina\, 700 Settlers Landing Rd\, Hampton\, VA\, 23669\, United States
CATEGORIES:2017 Forum
END:VEVENT
END:VCALENDAR